BEGIN:VCALENDAR
VERSION:2.0
PRODID:-//hacksw/handcal//NONSGML v1.0//EN
CALSCALE:GREGORIAN
BEGIN:VEVENT
DTEND:20060422T230000Z
UID:69ecf072aa3c0
DTSTAMP:20260425T174850Z
LOCATION:0 Weinstadt Sorthalle Schnait
DESCRIPTION:
URL;VALUE=URI:
SUMMARY:Volkswandern durch Wiesen und Weinberge im Schnaiter Tal
DTSTART:20060422T230000Z
END:VEVENT
END:VCALENDAR
An internal server error occurred.