BEGIN:VCALENDAR
VERSION:2.0
PRODID:-//hacksw/handcal//NONSGML v1.0//EN
CALSCALE:GREGORIAN
BEGIN:VEVENT
DTEND:20060425T230000Z
UID:69ece2c89a01c
DTSTAMP:20260425T165032Z
LOCATION:0 Pfullendorf Kasernenegelände
DESCRIPTION:
URL;VALUE=URI:
SUMMARY:12. Soldatenheimlauf-Cup mit sechs Läufen (1.lauf)
DTSTART:20060425T230000Z
END:VEVENT
END:VCALENDAR
An internal server error occurred.