BEGIN:VCALENDAR
VERSION:2.0
PRODID:-//hacksw/handcal//NONSGML v1.0//EN
CALSCALE:GREGORIAN
BEGIN:VEVENT
DTEND:20060429T230000Z
UID:69ecb7e4503fc
DTSTAMP:20260425T134732Z
LOCATION:0 Duisburg
DESCRIPTION:
URL;VALUE=URI:
SUMMARY:23.Rhein-Ruhr.Marathon/5.Rein-Ruhr-Halbmarathon
DTSTART:20060429T230000Z
END:VEVENT
END:VCALENDAR
An internal server error occurred.