BEGIN:VCALENDAR
VERSION:2.0
PRODID:-//hacksw/handcal//NONSGML v1.0//EN
CALSCALE:GREGORIAN
BEGIN:VEVENT
DTEND:20060430T230000Z
UID:69ed74a4a2ac3
DTSTAMP:20260426T031252Z
LOCATION:0 Mannheim
DESCRIPTION:
URL;VALUE=URI:
SUMMARY:11.Mannheimer Brückenlauf\, im Rahmendes 6. Drei Länder Laufscup
DTSTART:20060430T230000Z
END:VEVENT
END:VCALENDAR
An internal server error occurred.