BEGIN:VCALENDAR
VERSION:2.0
PRODID:-//hacksw/handcal//NONSGML v1.0//EN
CALSCALE:GREGORIAN
BEGIN:VEVENT
DTEND:20060430T230000Z
UID:69eb0b74b6426
DTSTAMP:20260424T071932Z
LOCATION:0 Hohburg Waldsportplatz
DESCRIPTION:
URL;VALUE=URI:
SUMMARY:9.Hohburger Steinbruchlauf/6.Lauf Lichtenauer Sachsen Cup 2006
DTSTART:20060430T230000Z
END:VEVENT
END:VCALENDAR
An internal server error occurred.