BEGIN:VCALENDAR
VERSION:2.0
PRODID:-//hacksw/handcal//NONSGML v1.0//EN
CALSCALE:GREGORIAN
BEGIN:VEVENT
DTEND:20060506T230000Z
UID:69ec33e97bc10
DTSTAMP:20260425T042425Z
LOCATION:0 Steinwiesen
DESCRIPTION:
URL;VALUE=URI:
SUMMARY:37.Int.Volkslauf Rund um die Ködelbachtalsperre
DTSTART:20060506T230000Z
END:VEVENT
END:VCALENDAR
An internal server error occurred.