BEGIN:VCALENDAR
VERSION:2.0
PRODID:-//hacksw/handcal//NONSGML v1.0//EN
CALSCALE:GREGORIAN
BEGIN:VEVENT
DTEND:20060506T230000Z
UID:69ed3db647d1f
DTSTAMP:20260425T231830Z
LOCATION:0 Halbinsel Fischland/Darß/Zingst
DESCRIPTION:
URL;VALUE=URI:
SUMMARY:1.Darß-Marathon-der Natur Erlebnislauf an der Ostseeküste
DTSTART:20060506T230000Z
END:VEVENT
END:VCALENDAR
An internal server error occurred.