BEGIN:VCALENDAR
VERSION:2.0
PRODID:-//hacksw/handcal//NONSGML v1.0//EN
CALSCALE:GREGORIAN
BEGIN:VEVENT
DTEND:20060508T230000Z
UID:69ed3dc9547a4
DTSTAMP:20260425T231849Z
LOCATION:0 Leer-Holtland
DESCRIPTION:
URL;VALUE=URI:
SUMMARY:25.Ostfrielandlauf von Leer nach Bensersiel
DTSTART:20060508T230000Z
END:VEVENT
END:VCALENDAR
An internal server error occurred.