BEGIN:VCALENDAR
VERSION:2.0
PRODID:-//hacksw/handcal//NONSGML v1.0//EN
CALSCALE:GREGORIAN
BEGIN:VEVENT
DTEND:20060511T230000Z
UID:69eae96b5d03b
DTSTAMP:20260424T045419Z
LOCATION:0 Holtland-Neukamperfehn
DESCRIPTION:
URL;VALUE=URI:
SUMMARY:25.Ostfrielandlauf von Leer nach Bensersiel
DTSTART:20060511T230000Z
END:VEVENT
END:VCALENDAR
An internal server error occurred.