BEGIN:VCALENDAR
VERSION:2.0
PRODID:-//hacksw/handcal//NONSGML v1.0//EN
CALSCALE:GREGORIAN
BEGIN:VEVENT
DTEND:20060512T230000Z
UID:69eae0fd2d1ac
DTSTAMP:20260424T041821Z
LOCATION:0 Neustadt
DESCRIPTION:
URL;VALUE=URI:
SUMMARY:Neustädter St.Felixlauf im Rahmen des OPF Läufercups
DTSTART:20060512T230000Z
END:VEVENT
END:VCALENDAR
An internal server error occurred.