BEGIN:VCALENDAR
VERSION:2.0
PRODID:-//hacksw/handcal//NONSGML v1.0//EN
CALSCALE:GREGORIAN
BEGIN:VEVENT
DTEND:20060513T230000Z
UID:69ed76dbe672a
DTSTAMP:20260426T032219Z
LOCATION:0 Freiburg
DESCRIPTION:
URL;VALUE=URI:
SUMMARY:3.KKH-Herz-Kreislauf-Lauf im Seeparkstadion in Freiburg
DTSTART:20060513T230000Z
END:VEVENT
END:VCALENDAR
An internal server error occurred.