BEGIN:VCALENDAR
VERSION:2.0
PRODID:-//hacksw/handcal//NONSGML v1.0//EN
CALSCALE:GREGORIAN
BEGIN:VEVENT
DTEND:20060518T230000Z
UID:69ebf5f5d8335
DTSTAMP:20260425T000005Z
LOCATION:0 Ahnatal-Heckershausen
DESCRIPTION:
URL;VALUE=URI:
SUMMARY:27.Nat.Abendvolkslauf Rund um den Stahlberg
DTSTART:20060518T230000Z
END:VEVENT
END:VCALENDAR
An internal server error occurred.