BEGIN:VCALENDAR
VERSION:2.0
PRODID:-//hacksw/handcal//NONSGML v1.0//EN
CALSCALE:GREGORIAN
BEGIN:VEVENT
DTEND:20060518T230000Z
UID:69ed22d588874
DTSTAMP:20260425T212349Z
LOCATION:0 Holtrop-Plaggenburg
DESCRIPTION:
URL;VALUE=URI:
SUMMARY:25.Ostfrieslandlauf von Leer nach Bensersiel
DTSTART:20060518T230000Z
END:VEVENT
END:VCALENDAR
An internal server error occurred.