BEGIN:VCALENDAR
VERSION:2.0
PRODID:-//hacksw/handcal//NONSGML v1.0//EN
CALSCALE:GREGORIAN
BEGIN:VEVENT
DTEND:20060520T230000Z
UID:69ed3db8bf9b9
DTSTAMP:20260425T231832Z
LOCATION:0 Preuß.Oldendorf
DESCRIPTION:
URL;VALUE=URI:
SUMMARY:22.Volkslauf u. Wandertag  Rund um den Aussichtsturm
DTSTART:20060520T230000Z
END:VEVENT
END:VCALENDAR
An internal server error occurred.