BEGIN:VCALENDAR
VERSION:2.0
PRODID:-//hacksw/handcal//NONSGML v1.0//EN
CALSCALE:GREGORIAN
BEGIN:VEVENT
DTEND:20060520T230000Z
UID:69ed792568873
DTSTAMP:20260426T033205Z
LOCATION:0 Meßstetten\, Turn- und Festhalle
DESCRIPTION:
URL;VALUE=URI:
SUMMARY:1.Meßstetter Extrem-Lauf\, das Lauf-Event durch alle 7 Stadtteile
DTSTART:20060520T230000Z
END:VEVENT
END:VCALENDAR
An internal server error occurred.