BEGIN:VCALENDAR
VERSION:2.0
PRODID:-//hacksw/handcal//NONSGML v1.0//EN
CALSCALE:GREGORIAN
BEGIN:VEVENT
DTEND:20060520T230000Z
UID:69ebe857811ad
DTSTAMP:20260424T230159Z
LOCATION:0 Schul- und Sportzentrum
DESCRIPTION:
URL;VALUE=URI:
SUMMARY:15.Welzheimer Wald-Lauf und den Fontanis Pokal
DTSTART:20060520T230000Z
END:VEVENT
END:VCALENDAR
An internal server error occurred.