BEGIN:VCALENDAR
VERSION:2.0
PRODID:-//hacksw/handcal//NONSGML v1.0//EN
CALSCALE:GREGORIAN
BEGIN:VEVENT
DTEND:20060522T230000Z
UID:69ec0c4666c8a
DTSTAMP:20260425T013518Z
LOCATION:0 Plaggenburg-Dunum
DESCRIPTION:
URL;VALUE=URI:
SUMMARY:25.Ostfrieslandlauff von Leer nach Bensersiel
DTSTART:20060522T230000Z
END:VEVENT
END:VCALENDAR
An internal server error occurred.