BEGIN:VCALENDAR
VERSION:2.0
PRODID:-//hacksw/handcal//NONSGML v1.0//EN
CALSCALE:GREGORIAN
BEGIN:VEVENT
DTEND:20060524T230000Z
UID:69ebe85eac025
DTSTAMP:20260424T230206Z
LOCATION:0 Rengsdorf
DESCRIPTION:
URL;VALUE=URI:
SUMMARY:35. Int. Volkswandertag/ 23. WW-Marsch/ 7. WW-Lauf
DTSTART:20060524T230000Z
END:VEVENT
END:VCALENDAR
An internal server error occurred.