BEGIN:VCALENDAR
VERSION:2.0
PRODID:-//hacksw/handcal//NONSGML v1.0//EN
CALSCALE:GREGORIAN
BEGIN:VEVENT
DTEND:20060525T230000Z
UID:69eca7b7c03d8
DTSTAMP:20260425T123831Z
LOCATION:0 Dunum-Bensersiel
DESCRIPTION:
URL;VALUE=URI:
SUMMARY:25. Ostfrieslandlauf von Leer nach Bensersiel
DTSTART:20060525T230000Z
END:VEVENT
END:VCALENDAR
An internal server error occurred.