BEGIN:VCALENDAR
VERSION:2.0
PRODID:-//hacksw/handcal//NONSGML v1.0//EN
CALSCALE:GREGORIAN
BEGIN:VEVENT
DTEND:20060526T230000Z
UID:69ed6bc958f4c
DTSTAMP:20260426T023505Z
LOCATION:0 Schwäbisch-Gmünd
DESCRIPTION:
URL;VALUE=URI:
SUMMARY:10. Gmünder-DRK-12-Stundenlauf für Einzelläufer und Mannschaften
DTSTART:20060526T230000Z
END:VEVENT
END:VCALENDAR
An internal server error occurred.