BEGIN:VCALENDAR
VERSION:2.0
PRODID:-//hacksw/handcal//NONSGML v1.0//EN
CALSCALE:GREGORIAN
BEGIN:VEVENT
DTEND:20060527T230000Z
UID:69ed84607bc0e
DTSTAMP:20260426T042000Z
LOCATION:0 Frankfurt a.M.-Bergen-Enkheim
DESCRIPTION:
URL;VALUE=URI:
SUMMARY:18. Frankfurter Volkslauf um den Hessen Center Pokal
DTSTART:20060527T230000Z
END:VEVENT
END:VCALENDAR
An internal server error occurred.