BEGIN:VCALENDAR
VERSION:2.0
PRODID:-//hacksw/handcal//NONSGML v1.0//EN
CALSCALE:GREGORIAN
BEGIN:VEVENT
DTEND:20060604T230000Z
UID:69ea98d6d2271
DTSTAMP:20260423T231030Z
LOCATION:0 Sportplatz Sülzbach
DESCRIPTION:
URL;VALUE=URI:
SUMMARY:Volkslauf Rund um den Altenberg Sülzbach
DTSTART:20060604T230000Z
END:VEVENT
END:VCALENDAR
An internal server error occurred.