BEGIN:VCALENDAR
VERSION:2.0
PRODID:-//hacksw/handcal//NONSGML v1.0//EN
CALSCALE:GREGORIAN
BEGIN:VEVENT
DTEND:20060610T230000Z
UID:69ec158ac0435
DTSTAMP:20260425T021450Z
LOCATION:0 Klein Ilsede
DESCRIPTION:
URL;VALUE=URI:
SUMMARY:10. Klein Ilseder Volkslauf/ 7. Salzgitter AG-Lauf
DTSTART:20060610T230000Z
END:VEVENT
END:VCALENDAR
An internal server error occurred.