BEGIN:VCALENDAR
VERSION:2.0
PRODID:-//hacksw/handcal//NONSGML v1.0//EN
CALSCALE:GREGORIAN
BEGIN:VEVENT
DTEND:20060610T230000Z
UID:69eb2ae6713f6
DTSTAMP:20260424T093342Z
LOCATION:0 Waxweiler - Ortszentrum
DESCRIPTION:
URL;VALUE=URI:
SUMMARY:7. AOK Fitness-Lauf + Volkslauf
DTSTART:20060610T230000Z
END:VEVENT
END:VCALENDAR
An internal server error occurred.