BEGIN:VCALENDAR
VERSION:2.0
PRODID:-//hacksw/handcal//NONSGML v1.0//EN
CALSCALE:GREGORIAN
BEGIN:VEVENT
DTEND:20060107T230000Z
UID:69ec2b686a518
DTSTAMP:20260425T034808Z
LOCATION:0 Bönen
DESCRIPTION:
URL;VALUE=URI:
SUMMARY:"20. Bönener Volkslauf "" Rund um Flierich"""
DTSTART:20060107T230000Z
END:VEVENT
END:VCALENDAR
An internal server error occurred.