BEGIN:VCALENDAR
VERSION:2.0
PRODID:-//hacksw/handcal//NONSGML v1.0//EN
CALSCALE:GREGORIAN
BEGIN:VEVENT
DTEND:20060408T230000Z
UID:69ed6bcaef41e
DTSTAMP:20260426T023506Z
LOCATION:0 Schömberg Sperrwärterhaus Stausee
DESCRIPTION:
URL;VALUE=URI:
SUMMARY:"26. Volkslauf ""Rund um den Stausee"" 1. Wertungslauf Silberdistel Alb Cup"
DTSTART:20060408T230000Z
END:VEVENT
END:VCALENDAR
An internal server error occurred.