BEGIN:VCALENDAR
VERSION:2.0
PRODID:-//hacksw/handcal//NONSGML v1.0//EN
CALSCALE:GREGORIAN
BEGIN:VEVENT
DTEND:20060421T230000Z
UID:69e9d0f7d9044
DTSTAMP:20260423T085743Z
LOCATION:0 Schmalegg Ringenburghalle
DESCRIPTION:
URL;VALUE=URI:
SUMMARY:"21.Ravensburger Frühlingslauf ""Rund um Schmalegg"""
DTSTART:20060421T230000Z
END:VEVENT
END:VCALENDAR
An internal server error occurred.