BEGIN:VCALENDAR
VERSION:2.0
PRODID:-//hacksw/handcal//NONSGML v1.0//EN
CALSCALE:GREGORIAN
BEGIN:VEVENT
DTEND:20060422T230000Z
UID:69ed7e670bb1f
DTSTAMP:20260426T035431Z
LOCATION:0 Cloppenburg
DESCRIPTION:
URL;VALUE=URI:
SUMMARY:"Volkscrosslauf u. Wandern ""Rund um die Thülsfelder Talsp."""
DTSTART:20060422T230000Z
END:VEVENT
END:VCALENDAR
An internal server error occurred.