BEGIN:VCALENDAR
VERSION:2.0
PRODID:-//hacksw/handcal//NONSGML v1.0//EN
CALSCALE:GREGORIAN
BEGIN:VEVENT
DTEND:20060422T230000Z
UID:69eae971b27e1
DTSTAMP:20260424T045425Z
LOCATION:0 Münster
DESCRIPTION:
URL;VALUE=URI:
SUMMARY:"23.Int. Volkslauf ""Rund um den Allwetterzoo"""
DTSTART:20060422T230000Z
END:VEVENT
END:VCALENDAR
An internal server error occurred.