BEGIN:VCALENDAR
VERSION:2.0
PRODID:-//hacksw/handcal//NONSGML v1.0//EN
CALSCALE:GREGORIAN
BEGIN:VEVENT
DTEND:20060428T230000Z
UID:69eb7bd298d7d
DTSTAMP:20260424T151858Z
LOCATION:0 Marburg
DESCRIPTION:
URL;VALUE=URI:
SUMMARY:"24.Marburger-AHRENS-Stadtlauf ""Rund um die Stadthalle"""
DTSTART:20060428T230000Z
END:VEVENT
END:VCALENDAR
An internal server error occurred.