BEGIN:VCALENDAR
VERSION:2.0
PRODID:-//hacksw/handcal//NONSGML v1.0//EN
CALSCALE:GREGORIAN
BEGIN:VEVENT
DTEND:20060429T230000Z
UID:69eb30328dba5
DTSTAMP:20260424T095618Z
LOCATION:0 Querfurt Stadtbad
DESCRIPTION:
URL;VALUE=URI:
SUMMARY:"22.Crosslauf ""Rund um die Querfurter Fichten"""
DTSTART:20060429T230000Z
END:VEVENT
END:VCALENDAR
An internal server error occurred.