BEGIN:VCALENDAR
VERSION:2.0
PRODID:-//hacksw/handcal//NONSGML v1.0//EN
CALSCALE:GREGORIAN
BEGIN:VEVENT
DTEND:20060506T230000Z
UID:69ebed8c0a0df
DTSTAMP:20260424T232412Z
LOCATION:0 Bad Elster\, König Albert Theater
DESCRIPTION:
URL;VALUE=URI:
SUMMARY:"4. Bad Elster-Lauf "" Auf den Spuren Sächsischer Könige"""
DTSTART:20060506T230000Z
END:VEVENT
END:VCALENDAR
An internal server error occurred.