BEGIN:VCALENDAR
VERSION:2.0
PRODID:-//hacksw/handcal//NONSGML v1.0//EN
CALSCALE:GREGORIAN
BEGIN:VEVENT
DTEND:20060610T230000Z
UID:69eb7bcc02030
DTSTAMP:20260424T151852Z
LOCATION:0 Schwarzenberg Sportplatz
DESCRIPTION:
URL;VALUE=URI:
SUMMARY:3. Schwarzenberger Reute-Lauf und WL zum Nagold Enz Cup
DTSTART:20060610T230000Z
END:VEVENT
END:VCALENDAR
An internal server error occurred.