BEGIN:VCALENDAR
VERSION:2.0
PRODID:-//hacksw/handcal//NONSGML v1.0//EN
CALSCALE:GREGORIAN
BEGIN:VEVENT
DTEND:20060616T230000Z
UID:69ec1ae5c6be2
DTSTAMP:20260425T023741Z
LOCATION:0 Herzogenrath - schulzentrum
DESCRIPTION:
URL;VALUE=URI:
SUMMARY:37. Int. Volkslauf\, Wa und Wandertag/ 28. Int. HM
DTSTART:20060616T230000Z
END:VEVENT
END:VCALENDAR
An internal server error occurred.