BEGIN:VCALENDAR
VERSION:2.0
PRODID:-//hacksw/handcal//NONSGML v1.0//EN
CALSCALE:GREGORIAN
BEGIN:VEVENT
DTEND:20060618T230000Z
UID:69eca7b8d692c
DTSTAMP:20260425T123832Z
LOCATION:0 Greetsiel
DESCRIPTION:
URL;VALUE=URI:
SUMMARY:EWE Nordseelauf Die Nordsee - Sieben Inseln - Eine Küste
DTSTART:20060618T230000Z
END:VEVENT
END:VCALENDAR
An internal server error occurred.