BEGIN:VCALENDAR
VERSION:2.0
PRODID:-//hacksw/handcal//NONSGML v1.0//EN
CALSCALE:GREGORIAN
BEGIN:VEVENT
DTEND:20060620T230000Z
UID:69ed86fddde89
DTSTAMP:20260426T043109Z
LOCATION:0 Soldatenheim Stetten a.k.M.
DESCRIPTION:
URL;VALUE=URI:
SUMMARY:12. Soldatenheimlauf-Cup mit 6 Läufen (4. Lauf in Stetten)
DTSTART:20060620T230000Z
END:VEVENT
END:VCALENDAR
An internal server error occurred.