BEGIN:VCALENDAR
VERSION:2.0
PRODID:-//hacksw/handcal//NONSGML v1.0//EN
CALSCALE:GREGORIAN
BEGIN:VEVENT
DTEND:20060622T230000Z
UID:69ece2ca26994
DTSTAMP:20260425T165034Z
LOCATION:0 Vor dem Deutschen Schifffahrtsmuseum
DESCRIPTION:
URL;VALUE=URI:
SUMMARY:EWE Nordseelauf Die Nordsee - Sieben Inseln - Eine Küste
DTSTART:20060622T230000Z
END:VEVENT
END:VCALENDAR
An internal server error occurred.