BEGIN:VCALENDAR
VERSION:2.0
PRODID:-//hacksw/handcal//NONSGML v1.0//EN
CALSCALE:GREGORIAN
BEGIN:VEVENT
DTEND:20060622T230000Z
UID:69ed079121046
DTSTAMP:20260425T192729Z
LOCATION:0 Bergisch Gladbach - Bensberg
DESCRIPTION:
URL;VALUE=URI:
SUMMARY:21. Bensberger Frauenlauf + 2. Mediterana Walking Day
DTSTART:20060622T230000Z
END:VEVENT
END:VCALENDAR
An internal server error occurred.