BEGIN:VCALENDAR
VERSION:2.0
PRODID:-//hacksw/handcal//NONSGML v1.0//EN
CALSCALE:GREGORIAN
BEGIN:VEVENT
DTEND:20060623T230000Z
UID:69ec158196943
DTSTAMP:20260425T021441Z
LOCATION:0 Landenburg-Atzenrod
DESCRIPTION:
URL;VALUE=URI:
SUMMARY:"13. Volkslauf-Stadtlauf ""Rund um Atzenrod"""
DTSTART:20060623T230000Z
END:VEVENT
END:VCALENDAR
An internal server error occurred.