BEGIN:VCALENDAR
VERSION:2.0
PRODID:-//hacksw/handcal//NONSGML v1.0//EN
CALSCALE:GREGORIAN
BEGIN:VEVENT
DTEND:20060624T230000Z
UID:69ec0c417b9e4
DTSTAMP:20260425T013513Z
LOCATION:0 Vereinsheim Sgt.-Zazenhausen
DESCRIPTION:
URL;VALUE=URI:
SUMMARY:Volk(mar)slauf mit Sommerfest - Zazenhausen
DTSTART:20060624T230000Z
END:VEVENT
END:VCALENDAR
An internal server error occurred.