BEGIN:VCALENDAR
VERSION:2.0
PRODID:-//hacksw/handcal//NONSGML v1.0//EN
CALSCALE:GREGORIAN
BEGIN:VEVENT
DTEND:20060701T230000Z
UID:69ece6c6a0e8e
DTSTAMP:20260425T170734Z
LOCATION:0 Coburg
DESCRIPTION:
URL;VALUE=URI:
SUMMARY:"26. VR-Bank Lauf ""Rund um die Fränkische Krone"""
DTSTART:20060701T230000Z
END:VEVENT
END:VCALENDAR
An internal server error occurred.