BEGIN:VCALENDAR
VERSION:2.0
PRODID:-//hacksw/handcal//NONSGML v1.0//EN
CALSCALE:GREGORIAN
BEGIN:VEVENT
DTEND:20060713T230000Z
UID:69ec15897c9de
DTSTAMP:20260425T021449Z
LOCATION:0 Ettlingen
DESCRIPTION:
URL;VALUE=URI:
SUMMARY:4. Ettlinger Altstadtlauf Der Volksbank Ettlingen
DTSTART:20060713T230000Z
END:VEVENT
END:VCALENDAR
An internal server error occurred.