BEGIN:VCALENDAR
VERSION:2.0
PRODID:-//hacksw/handcal//NONSGML v1.0//EN
CALSCALE:GREGORIAN
BEGIN:VEVENT
DTEND:20060714T230000Z
UID:69eae9711cd29
DTSTAMP:20260424T045425Z
LOCATION:0 Freiburg
DESCRIPTION:
URL;VALUE=URI:
SUMMARY:Freiburger Laufnacht in der Freiburger Innenstadt
DTSTART:20060714T230000Z
END:VEVENT
END:VCALENDAR
An internal server error occurred.