BEGIN:VCALENDAR
VERSION:2.0
PRODID:-//hacksw/handcal//NONSGML v1.0//EN
CALSCALE:GREGORIAN
BEGIN:VEVENT
DTEND:20060722T230000Z
UID:69ed6bc5362f2
DTSTAMP:20260426T023501Z
LOCATION:0 Mannheim
DESCRIPTION:
URL;VALUE=URI:
SUMMARY:1000m Sport und Spiel Straßenlauf am Wasserturm in Mannheim
DTSTART:20060722T230000Z
END:VEVENT
END:VCALENDAR
An internal server error occurred.