BEGIN:VCALENDAR
VERSION:2.0
PRODID:-//hacksw/handcal//NONSGML v1.0//EN
CALSCALE:GREGORIAN
BEGIN:VEVENT
DTEND:20060728T230000Z
UID:69ed74a9622a4
DTSTAMP:20260426T031257Z
LOCATION:0 Bad Pyrmont
DESCRIPTION:
URL;VALUE=URI:
SUMMARY:9. Bad Pyrmonter Landschaftsmarathon + 18. Bad Pyrmonter Brunnenlauf
DTSTART:20060728T230000Z
END:VEVENT
END:VCALENDAR
An internal server error occurred.