BEGIN:VCALENDAR
VERSION:2.0
PRODID:-//hacksw/handcal//NONSGML v1.0//EN
CALSCALE:GREGORIAN
BEGIN:VEVENT
DTEND:20060805T230000Z
UID:69eae0fc2d6c3
DTSTAMP:20260424T041820Z
LOCATION:0 Aidlingen
DESCRIPTION:
URL;VALUE=URI:
SUMMARY:12. Cross Festival mit 4. WL des Schönbuch Cub 2006
DTSTART:20060805T230000Z
END:VEVENT
END:VCALENDAR
An internal server error occurred.