BEGIN:VCALENDAR
VERSION:2.0
PRODID:-//hacksw/handcal//NONSGML v1.0//EN
CALSCALE:GREGORIAN
BEGIN:VEVENT
DTEND:20060811T230000Z
UID:69ece6c85be43
DTSTAMP:20260425T170736Z
LOCATION:0 Leipzig
DESCRIPTION:
URL;VALUE=URI:
SUMMARY:17. Leipziger 100-km-Lauf/11. Leipziger 50-km-Lauf
DTSTART:20060811T230000Z
END:VEVENT
END:VCALENDAR
An internal server error occurred.