BEGIN:VCALENDAR
VERSION:2.0
PRODID:-//hacksw/handcal//NONSGML v1.0//EN
CALSCALE:GREGORIAN
BEGIN:VEVENT
DTEND:20060819T230000Z
UID:69ed6bd3d4dbe
DTSTAMP:20260426T023515Z
LOCATION:0 Wünnenberg
DESCRIPTION:
URL;VALUE=URI:
SUMMARY:24. Rund um die Aabachtalsperre - E.ON-Westfalen-Weser-Lauf
DTSTART:20060819T230000Z
END:VEVENT
END:VCALENDAR
An internal server error occurred.