BEGIN:VCALENDAR
VERSION:2.0
PRODID:-//hacksw/handcal//NONSGML v1.0//EN
CALSCALE:GREGORIAN
BEGIN:VEVENT
DTEND:20060902T230000Z
UID:69ed4130ebb63
DTSTAMP:20260425T233320Z
LOCATION:0 Hamburg
DESCRIPTION:
URL;VALUE=URI:
SUMMARY:17.Int Alsterlauf u. 1.Lauf zum Hamburger Laufcup
DTSTART:20060902T230000Z
END:VEVENT
END:VCALENDAR
An internal server error occurred.