BEGIN:VCALENDAR
VERSION:2.0
PRODID:-//hacksw/handcal//NONSGML v1.0//EN
CALSCALE:GREGORIAN
BEGIN:VEVENT
DTEND:20060916T230000Z
UID:69ed84604f32d
DTSTAMP:20260426T042000Z
LOCATION:0 Brey
DESCRIPTION:
URL;VALUE=URI:
SUMMARY:"11.Int. Breyer Volkslauf ""Rund um die römische Wasserleitung"""
DTSTART:20060916T230000Z
END:VEVENT
END:VCALENDAR
An internal server error occurred.